BEGIN:VCALENDAR
VERSION:2.0
PRODID:icalendar-ruby
CALSCALE:GREGORIAN
METHOD:PUBLISH
BEGIN:VEVENT
DTSTAMP:20260422T222918Z
UID:7-762563@alofnac.com
DTSTART:20261025T233000Z
DTEND:20261026T013000Z
CLASS:PUBLIC
CREATED:20260422T153336
DESCRIPTION:You've been watching. You've been thinking about it. Time to ta
 ke the leap and join us for a service!
LAST-MODIFIED:20260422T153336
LOCATION:
SUMMARY:Sunday PM Worship
URL;VALUE=URI:https://alofnac.com/events/sunday-pm-worship/2026-10-25
ATTACH;FILENAME=11.15a_H.jpg;FMTTYPE=image/jpeg:https://dq5pwpg1q8ru0.cloud
 front.net/2023/03/23/15/36/54/f3d3c50c-bdc5-4816-b59c-2c26252bdc3a/11.15a_
 H.jpg
END:VEVENT
END:VCALENDAR
