BEGIN:VCALENDAR
VERSION:2.0
PRODID:icalendar-ruby
CALSCALE:GREGORIAN
METHOD:PUBLISH
BEGIN:VEVENT
DTSTAMP:20260422T010215Z
UID:6-760112@alofnac.com
DTSTART:20261011T150000Z
DTEND:20261011T170000Z
CLASS:PUBLIC
CREATED:20260421T194456
DESCRIPTION:Sunday is coming! Invite someone!
LAST-MODIFIED:20260421T194456
LOCATION:
SUMMARY:Sunday AM Worship
URL;VALUE=URI:https://alofnac.com/events/sunday-am-worship/2026-10-11
ATTACH;FILENAME=10.26a_H.jpg;FMTTYPE=image/jpeg:https://dq5pwpg1q8ru0.cloud
 front.net/2023/03/23/15/34/28/231b30d7-2d11-43c0-b6cc-2ee4c3934be4/10.26a_
 H.jpg
END:VEVENT
END:VCALENDAR
